Workbook
Name a: #REF!
Name a: #REF!
Name a: #REF!
Name a: #REF!
Name annee: #REF!
Name DDEF: #REF!
Name DDEF: #REF!
Name DDEF_P: #REF!
Name DDEF_P: #REF!
Name DDEH: #REF!
Name DDEH: #REF!
Name DDEH_P: #REF!
Name DDEH_P: #REF!
Name DDET: #REF!
Name DDET: #REF!
Name DDET_P: #REF!
Name DDET_P: #REF!
Name DDIF: #REF!
Name DDIF: #REF!
Name DDIF_P: #REF!
Name DDIF_P: #REF!
Name DDIH: #REF!
Name DDIH: #REF!
Name DDIH_P: #REF!
Name DDIH_P: #REF!
Name DDIT: #REF!
Name DDIT: #REF!
Name DDIT_P: #REF!
Name DDIT_P: #REF!
Name FTOT: #REF!
Name FTOT: #REF!
Name FTOT_P: #REF!
Name FTOT_P: #REF!
Name HTOT: #REF!
Name HTOT: #REF!
Name HTOT_P: #REF!
Name HTOT_P: #REF!
Name IDEF: #REF!
Name IDEF: #REF!
Name idef_p: #REF!
Name idef_p: #REF!
Name IDEH: #REF!
Name IDEH: #REF!
Name ideh_p: #REF!
Name ideh_p: #REF!
Name IDIF: #REF!
Name IDIF: #REF!
Name idif_p: #REF!
Name idif_p: #REF!
Name IDIH: #REF!
Name IDIH: #REF!
Name idih_p: #REF!
Name idih_p: #REF!
Name INVF: #REF!
Name INVF: #REF!
Name INVF_P: #REF!
Name INVF_P: #REF!
Name INVH: #REF!
Name INVH: #REF!
Name INVH_P: #REF!

Sheet Effectifs des agents
B1: Effectifs des personnels en 2024 (en milliers)
B3: Effectifs des personnels (en milliers) | C3: Fonctionnaires | D3: Salariés*
B4: Hommes | C4: 179.23 | D4: 192.339
B5: en % | C5: =C4/C8 -> 0.17645524 | D5: =D4/D8 -> 0.2836256
B6: Femmes | C6: 836.495 | D6: 485.805
B7: en % | C7: =C6/C8 -> 0.82354476 | D7: =D6/D8 -> 0.7163744
B8: Ensemble | C8: =C4+C6 -> 1015.725 | D8: =D4+D6 -> 678.144
B9: Evolution 2024/2023 | C9: ='Evolution effectifs agents'!O10 -> 0.021728678 | D9: ='Evolution effectifs agents'!O9 -> 0.0097453987
B11: * L’effectif des salariés intègre 13135 fonctionnaires.
B12: Ces derniers sont affiliés à l’Ircantec car ils occupent des emplois
B13: à temps non complet d’une durée hebdomadaire inférieure à 28 h.

Sheet Evolution effectifs agents
A1: Effectifs des personnels
A3: Personnels territoriaux | B3: 2011 | C3: 2012 | D3: 2013 | E3: 2014 | F3: 2015 | G3: 2016 | H3: 2017 | I3: 2018 | J3: 2019 | K3: 2020 | L3: 2021 | M3: 2022 | N3: 2023 | O3: 2024 | P3: 2024
A4: Salariés | B4: 514035 | C4: 521649 | D4: 527401 | E4: 535637 | F4: 547586 | G4: 559855 | H4: 569744 | I4: 582109 | J4: 593889 | K4: 634940 | L4: 654691 | M4: 671429 | N4: 671599 | O4: 678144 | P4: ='Effectifs des agents'!D8*1000 -> 678144
A5: Fonctionnaires | B5: 916111 | C5: 939682 | D5: 951743 | E5: 955066 | F5: 952552 | G5: 955259 | H5: 948400 | I5: 939292 | J5: 936242 | K5: 936680 | L5: 948052 | M5: 972909 | N5: 994124 | O5: 1015725 | P5: ='Effectifs des agents'!C8*1000 -> 1015725
A7: Taux d'évolution | C7: =CONCATENATE(C3,"/",B3) -> 2012/2011 | D7: =CONCATENATE(D3,"/",C3) -> 2013/2012 | E7: =CONCATENATE(E3,"/",D3) -> 2014/2013 | F7: =CONCATENATE(F3,"/",E3) -> 2015/2014 | G7: =CONCATENATE(G3,"/",F3) -> 2016/2015 | H7: =CONCATENATE(H3,"/",G3) -> 2017/2016 | I7: =CONCATENATE(I3,"/",H3) -> 2018/2017 | J7: =CONCATENATE(J3,"/",I3) -> 2019/2018 | ... O7: =CONCATENATE(O3,"/",N3) -> 2024/2023 | P7: sur 10 ans :
P8: évol annuelle | Q8: évol sur 10 ans
A9: Salariés | C9: =C4/B4-1 -> 0.014812221 | D9: =D4/C4-1 -> 0.011026572 | E9: =E4/D4-1 -> 0.015616201 | F9: =F4/E4-1 -> 0.022308018 | G9: =G4/F4-1 -> 0.022405613 | H9: =H4/G4-1 -> 0.017663502 | I9: =I4/H4-1 -> 0.02170273 | J9: =J4/I4-1 -> 0.02023676 | ... O9: =O4/N4-1 -> 0.0097453987 | P9: =(O4/E4)^(1/10)-1 -> 0.023870748 | Q9: =O4/E4-1 -> 0.26605145
A10: Fonctionnaires | C10: =C5/B5-1 -> 0.025729415 | D10: =D5/C5-1 -> 0.012835193 | E10: =E5/D5-1 -> 0.0034914888 | F10: =F5/E5-1 -> -0.0026322788 | G10: =G5/F5-1 -> 0.0028418396 | H10: =H5/G5-1 -> -0.0071802516 | I10: =I5/H5-1 -> -0.0096035428 | J10: =J5/I5-1 -> -0.0032471266 | ... O10: =O5/N5-1 -> 0.021728678 | P10: =(O5/E5)^(1/10)-1 -> 0.0061767453 | Q10: =O5/E5-1 -> 0.063512888

Sheet Pyramide ages fonctionnaires
A1: Pyramide des âges des fonctionnaires en 2024
A3: Age | B3: Homme | C3: Femme | D3: Ensemble | E3: age | F3: Homme | G3: Femme
A4: 15 | B4: 0 | C4: 0 | D4: =B4+C4 -> 0 | E4: 15 | F4: =B4*-1 -> 0 | G4: =C4 -> 0
A5: 16 | B5: 0 | C5: 0 | D5: =B5+C5 -> 0 | E5: 16 | F5: =B5*-1 -> 0 | G5: =C5 -> 0
A6: 17 | B6: 0 | C6: 0 | D6: =B6+C6 -> 0 | E6: 17 | F6: =B6*-1 -> 0 | G6: =C6 -> 0
A7: 18 | B7: 0 | C7: 0 | D7: =B7+C7 -> 0 | E7: 18 | F7: =B7*-1 -> 0 | G7: =C7 -> 0
A8: 19 | B8: 3 | C8: 6 | D8: =B8+C8 -> 9 | E8: 19 | F8: =B8*-1 -> -3 | G8: =C8 -> 6
A9: 20 | B9: 29 | C9: 150 | D9: =B9+C9 -> 179 | E9: 20 | F9: =B9*-1 -> -29 | G9: =C9 -> 150
A10: 21 | B10: 218 | C10: 1295 | D10: =B10+C10 -> 1513 | E10: 21 | F10: =B10*-1 -> -218 | G10: =C10 -> 1295
A11: 22 | B11: 531 | C11: 3702 | D11: =B11+C11 -> 4233 | E11: 22 | F11: =B11*-1 -> -531 | G11: =C11 -> 3702
A12: 23 | B12: 955 | C12: 6205 | D12: =B12+C12 -> 7160 | E12: 23 | F12: =B12*-1 -> -955 | G12: =C12 -> 6205
A13: 24 | B13: 1230 | C13: 8091 | D13: =B13+C13 -> 9321 | E13: 24 | F13: =B13*-1 -> -1230 | G13: =C13 -> 8091
A14: 25 | B14: 1524 | C14: 9929 | D14: =B14+C14 -> 11453 | E14: 25 | F14: =B14*-1 -> -1524 | G14: =C14 -> 9929
A15: 26 | B15: 1844 | C15: 11807 | D15: =B15+C15 -> 13651 | E15: 26 | F15: =B15*-1 -> -1844 | G15: =C15 -> 11807
... A58: 69 | B58: 11 | C58: 41 | D58: =B58+C58 -> 52 | E58: 69 | F58: =B58*-1 -> -11 | G58: =C58 -> 41
A59: TOTAL | B59: =SUM(B4:B58) -> 179230 | C59: =SUM(C4:C58) -> 836495 | D59: =SUM(B59:C59) -> 1015725

Sheet Pyramide âges salariés
A1: Pyramide des âges des salariés en 2024
A3: age | B3: Homme | C3: Femmes | D3: Ensemble | E3: age | F3: Homme | G3: Femme | I3: Cette pyramide concerne les cotisants de 15 à 69 ans et non la totalité des cotisants
A4: 15 | B4: 9 | C4: 3 | D4: =B4+C4 -> 12 | E4: 15 | F4: =-1*B4 -> -9 | G4: =C4 -> 3
A5: 16 | B5: 61 | C5: 67 | D5: =B5+C5 -> 128 | E5: 16 | F5: =-1*B5 -> -61 | G5: =C5 -> 67
A6: 17 | B6: 163 | C6: 423 | D6: =B6+C6 -> 586 | E6: 17 | F6: =-1*B6 -> -163 | G6: =C6 -> 423
A7: 18 | B7: 1417 | C7: 3587 | D7: =B7+C7 -> 5004 | E7: 18 | F7: =-1*B7 -> -1417 | G7: =C7 -> 3587
A8: 19 | B8: 2822 | C8: 8073 | D8: =B8+C8 -> 10895 | E8: 19 | F8: =-1*B8 -> -2822 | G8: =C8 -> 8073
A9: 20 | B9: 3484 | C9: 11412 | D9: =B9+C9 -> 14896 | E9: 20 | F9: =-1*B9 -> -3484 | G9: =C9 -> 11412
A10: 21 | B10: 5980 | C10: 19364 | D10: =B10+C10 -> 25344 | E10: 21 | F10: =-1*B10 -> -5980 | G10: =C10 -> 19364
A11: 22 | B11: 6718 | C11: 22765 | D11: =B11+C11 -> 29483 | E11: 22 | F11: =-1*B11 -> -6718 | G11: =C11 -> 22765
A12: 23 | B12: 7361 | C12: 23921 | D12: =B12+C12 -> 31282 | E12: 23 | F12: =-1*B12 -> -7361 | G12: =C12 -> 23921
A13: 24 | B13: 7583 | C13: 23250 | D13: =B13+C13 -> 30833 | E13: 24 | F13: =-1*B13 -> -7583 | G13: =C13 -> 23250
A14: 25 | B14: 7194 | C14: 20542 | D14: =B14+C14 -> 27736 | E14: 25 | F14: =-1*B14 -> -7194 | G14: =C14 -> 20542
A15: 26 | B15: 6522 | C15: 18731 | D15: =B15+C15 -> 25253 | E15: 26 | F15: =-1*B15 -> -6522 | G15: =C15 -> 18731
... A27: 38 | B27: 4037 | C27: 10873 | D27: =B27+C27 -> 14910 | E27: 38 | F27: =-1*B27 -> -4037 | G27: =C27 -> 10873
A28: 39 | B28: 3704 | C28: 9978 | D28: =B28+C28 -> 13682 | E28: 39 | F28: =-1*B28 -> -3704 | G28: =C28 -> 9978 | I28: Les âges moyens hommes et femmes sont calculés sur la totalité des cotisants
A29: 40 | B29: 3396 | C29: 9529 | D29: =B29+C29 -> 12925 | E29: 40 | F29: =-1*B29 -> -3396 | G29: =C29 -> 9529
A30: 41 | B30: 3215 | C30: 8940 | D30: =B30+C30 -> 12155 | E30: 41 | F30: =-1*B30 -> -3215 | G30: =C30 -> 8940
A31: 42 | B31: 3281 | C31: 9220 | D31: =B31+C31 -> 12501 | E31: 42 | F31: =-1*B31 -> -3281 | G31: =C31 -> 9220
A32: 43 | B32: 3247 | C32: 8768 | D32: =B32+C32 -> 12015 | E32: 43 | F32: =-1*B32 -> -3247 | G32: =C32 -> 8768
A33: 44 | B33: 3127 | C33: 8690 | D33: =B33+C33 -> 11817 | E33: 44 | F33: =-1*B33 -> -3127 | G33: =C33 -> 8690
A34: 45 | B34: 2964 | C34: 7880 | D34: =B34+C34 -> 10844 | E34: 45 | F34: =-1*B34 -> -2964 | G34: =C34 -> 7880
A35: 46 | B35: 2860 | C35: 7659 | D35: =B35+C35 -> 10519 | E35: 46 | F35: =-1*B35 -> -2860 | G35: =C35 -> 7659
A36: 47 | B36: 2810 | C36: 7319 | D36: =B36+C36 -> 10129 | E36: 47 | F36: =-1*B36 -> -2810 | G36: =C36 -> 7319
A37: 48 | B37: 2614 | C37: 7004 | D37: =B37+C37 -> 9618 | E37: 48 | F37: =-1*B37 -> -2614 | G37: =C37 -> 7004
A38: 49 | B38: 2683 | C38: 6926 | D38: =B38+C38 -> 9609 | E38: 49 | F38: =-1*B38 -> -2683 | G38: =C38 -> 6926
A39: 50 | B39: 2648 | C39: 6898 | D39: =B39+C39 -> 9546 | E39: 50 | F39: =-1*B39 -> -2648 | G39: =C39 -> 6898
A40: 51 | B40: 2627 | C40: 6922 | D40: =B40+C40 -> 9549 | E40: 51 | F40: =-1*B40 -> -2627 | G40: =C40 -> 6922
... A58: 69 | B58: 852 | C58: 600 | D58: =B58+C58 -> 1452 | E58: 69 | F58: =-1*B58 -> -852 | G58: =C58 -> 600
B59: =SUM(B4:B58) -> 189724 | C59: =SUM(C4:C58) -> 484636 | D59: =SUM(B59:C59) -> 674360

Sheet Agents par famille
B1: Répartition des personnels hospitaliers par type d’employeurs en 2024
B3: Type d'employeurs | C3: CNRACL | D3: Ircantec *
B4: Centres hospitaliers généraux | C4: 0.4431859 | D4: 0.39350335
B5: Centres hospitaliers régionaux et universitaires | C5: 0.31320978 | D5: 0.32867343
B6: Centres d'hébergement personnes âgées | C6: 0.059466883 | D6: 0.096790183
B7: Centres hospitaliers spécialisés | C7: 0.063874572 | D7: 0.040094381
B8: Hôpitaux locaux | C8: 0.063860789 | D8: 0.073977227
B9: Ets publics à caractère sanitaire et social | C9: 0.020083192 | D9: 0.027594842
B10: Centres de soins avec/sans hébergement | C10: 0.0093952595 | D10: 0.0086748495
B11: Autres employeurs hospitaliers | C11: 0.026923626 | D11: 0.030691735
B12: Total | C12: =SUM(C4:C11) -> 1 | D12: =SUM(D4:D11) -> 1
B14: * Un cotisant peut être présent au sein de plusieurs établissements dans l'année

Sheet Correspondances
A1: sousfamille_code | B1: rgt_coll
A2: TESS | B2: Ctre daction sociale | E2: Cette correspondance est utilisée uniquement pour l'ircantec car cette variable rgt_coll existe déjà dans la cnr
A3: TEIU | B3: Syndicats
A4: TEIS | B4: Ctre daction sociale
A5: TESE | B5: Autres coll terr
A6: TENM | B6: Syndicats
A7: TEIX | B7: Syndicats
A8: TZ00 | B8: Autres coll terr
A9: TC00 | B9: Communes
A10: TEED | B10: OPH
A11: TENC | B11: Comm de communes, de ville
A12: TEND | B12: Comm urbaines, districts
A13: TD00 | B13: Departements
A14: TESZ | B14: Autres coll terr
... A27: TESH | B27: OPH

Sheet Agents par region
B1: Poids des personnels des collectivités hospitaliers par rapport à la population régionale 2024
B4: En nombre pour 100 habitants
B5: Region | C5: CNRACL | D5: IRCANTEC | E5: TOTAL
B6: Auvergne-Rhône-Alpes | C6: 1.4915025 | D6: 1.1025844 | E6: 2.5940869
B7: Bourgogne-Franche-Comté | C7: 1.8857557 | D7: 1.2629136 | E7: 3.1486693
B8: Bretagne | C8: 1.5668879 | D8: 1.1280261 | E8: 2.694914
B9: Centre-Val-de-Loire | C9: 1.6940926 | D9: 1.1796549 | E9: 2.8737475
B10: Corse | C10: 1.4828649 | D10: 0.90738282 | E10: 2.3902477
B11: Grand Est | C11: 1.6762048 | D11: 1.0694935 | E11: 2.7456982
B12: Hauts-de-France | C12: 1.538498 | D12: 1.0670102 | E12: 2.6055082
B13: Île-de-France | C13: 1.2941587 | D13: 0.87563882 | E13: 2.1697975
B14: Normandie | C14: 1.6879381 | D14: 1.1862966 | E14: 2.8742347
B15: Nouvelle-Aquitaine | C15: 1.6172492 | D15: 1.0736222 | E15: 2.6908714
B16: Occitanie | C16: 1.3203668 | D16: 0.90028334 | E16: 2.2206502
B17: Pays de la Loire | C17: 1.41881 | D17: 1.0326537 | E17: 2.4514637
... B19: DROM - COM | C19: 1.2418896 | D19: 0.95244415 | E19: 2.1943338

Sheet Effectif employeurs
B1: Nombre d’employeurs hospitaliers en 2024
C5: CNRACL | D5: Ircantec | E5: Employeurs distincts
B6: Employeurs hospitaliers | C6: ='Types d''employeurs'!C13 -> 2123 | D6: ='Types d''employeurs'!E13 -> 2191 | E6: 2228
B10: Aide à la lecture : 2228 employeurs territoriaux distincts sont dénombrés en 2024.
B11: =" "&E6-C6&" (="&E6&"-"&C6&") employeurs ne sont qu'à l'Ircantec," -> 105 (=2228-2123) employeurs ne sont qu'à l'Ircantec,
B12: =" "&E6-D6&" (= "&E6&"-"&D6&") ne sont qu'à la CNRACL et " -> 37 (= 2228-2191) ne sont qu'à la CNRACL et
B13: =" "&C6+D6-E6 &" sont à la fois à la CNRACL et à l'Ircantec." -> 2086 sont à la fois à la CNRACL et à l'Ircantec.

Sheet Evol Effectif employeurs
B1: Évolution du nombre d’employeurs hospitaliers
D5: 2009 | E5: 2010 | F5: 2011 | G5: 2012 | H5: 2013 | I5: 2014 | J5: 2015 | K5: 2016 | L5: 2017 | M5: 2018 | N5: 2019 | O5: 2020 | P5: 2021 | Q5: 2022 | R5: 2023 | S5: 2024 | T5: 2024
C6: Employeurs CNRACL | D6: 2461 | E6: 2452 | F6: 2439 | G6: 2417 | H6: 2398 | I6: 2371 | J6: 2317 | K6: 2279 | L6: 2262 | M6: 2238 | N6: 2203 | O6: 2184 | P6: 2162 | Q6: 2156 | R6: 2140 | S6: 2123 | T6: ='Effectif employeurs'!C6 -> 2123
C7: Employeurs Ircantec | D7: 2532 | E7: 2514 | F7: 2519 | G7: 2482 | H7: 2453 | I7: 2425 | J7: 2396 | K7: 2360 | L7: 2340 | M7: 2326 | N7: 2306 | O7: 2282 | P7: 2271 | Q7: 2245 | R7: 2214 | S7: 2191 | T7: ='Effectif employeurs'!D6 -> 2191

Sheet Types d'employeurs
B1: Types d'établissements employeurs hospitaliers en 2024
C3: CNRACL | E3: Ircantec
B4: Type d'établissements employeurs | C4: Nombre d'employeurs | D4: % | E4: Nombre d'employeurs | F4: %
B5: Centres hébergement personnes âgées | C5: 1019 | D5: =C5/$C$13 -> 0.47998116 | E5: 1028 | F5: =E5/$E$13 -> 0.46919215
B6: Centres hospitaliers généraux | C6: 376 | D6: =C6/$C$13 -> 0.17710787 | E6: 391 | F6: =E6/$E$13 -> 0.17845733
B7: Établissements publics à caractère sanitaire et social | C7: 161 | D7: =C7/$C$13 -> 0.075836081 | E7: 169 | F7: =E7/$E$13 -> 0.077133729
B8: Hôpitaux locaux | C8: 332 | D8: =C8/$C$13 -> 0.15638248 | E8: 344 | F8: =E8/$E$13 -> 0.15700593
B9: Centres hospitaliers régionaux et universitaires | C9: 78 | D9: =C9/$C$13 -> 0.036740462 | E9: 76 | F9: =E9/$E$13 -> 0.034687357
B10: Centres hospitaliers spécialisés | C10: 60 | D10: =C10/$C$13 -> 0.028261894 | E10: 62 | F10: =E10/$E$13 -> 0.028297581
B11: Centres de soins avec/sans hébergement | C11: 36 | D11: =C11/$C$13 -> 0.016957136 | E11: 41 | F11: =E11/$E$13 -> 0.018712916
B12: Autres employeurs hospitaliers | C12: 61 | D12: =C12/$C$13 -> 0.028732925 | E12: 80 | F12: =E12/$E$13 -> 0.036513008
B13: TOTAL | C13: =SUM(C5:C12) -> 2123 | D13: =SUM(D5:D12) -> 1 | E13: =SUM(E5:E12) -> 2191 | F13: =SUM(F5:F12) -> 1

Sheet Employeurs par region
B1: Répartition régionale des employeurs en 2024
B3: Regions | C3: CNRACL | E3: Ircantec
C4: répartition des employeurs | D4: nombre moyen d'agents par employeur | E4: répartition des employeurs | F4: nombre moyen d'agents par employeur
B5: Auvergne-Rhône-Alpes | C5: 0.14366463 | D5: 402.75082 | E5: 0.14376997 | F5: 288.27937
B6: Bourgogne-Franche-Comté | C6: 0.068299576 | D6: 363.06897 | E6: 0.065723414 | F6: 244.84028
B7: Bretagne | C7: 0.046632124 | D7: 546.51515 | E7: 0.047923323 | F7: 370.9619
B8: Centre-Val-de-Loire | C8: 0.061705134 | D8: 332.77863 | E8: 0.059333638 | F8: 233.50769
B9: Corse | C9: 0.0037682525 | D9: 659 | E9: 0.0036513008 | F9: 403.25
B10: Grand Est | C10: 0.090438059 | D10: 486.16146 | E10: 0.090369694 | F10: 300.79293
B11: Hauts-de-France | C11: 0.090438059 | D11: 479.48438 | E11: 0.096303058 | F11: 302.59716
B12: Île-de-France | C12: 0.074894018 | D12: 1010.9057 | E12: 0.074851666 | F12: 663.13415
B13: Normandie | C13: 0.062176166 | D13: 425.44697 | E13: 0.062984938 | F13: 286.00725
B14: Nouvelle-Aquitaine | C14: 0.12058408 | D14: 388.82031 | E14: 0.12186216 | F14: 247.48689
B15: Occitanie | C15: 0.090438059 | D15: 423.25521 | E15: 0.089913282 | F15: 281.26904
B16: Pays de la Loire | C16: 0.065473387 | D16: 400.77698 | E16: 0.062984938 | F16: 293.81159
... B18: DROM - COM | C18: 0.016015073 | D18: 814.70588 | E18: 0.014605203 | F18: 663.875
B19: TOTAL | C19: =SUM(C5:C18) -> 1 | D19: 478.43853 | E19: 1 | F19: 317.29667

Sheet Carte - Employeurs par region
B1: Nombre d’employeurs hospitaliers pour 100 000 habitants en 2024
B3: Region | C3: Nombre d'employeurs
B4: Auvergne-Rhône-Alpes | C4: 3.8611337
B5: Bourgogne-Franche-Comté | C5: 5.4804943
B6: Bretagne | C6: 3.0697739
B7: Centre-Val-de-Loire | C7: 5.1296101
B8: Corse | C8: 2.2501744
B9: Grand Est | C9: 3.5914954
B10: Hauts-de-France | C10: 3.5428855
B11: Île-de-France | C11: 1.3687644
B12: Normandie | C12: 4.2680106
B13: Nouvelle-Aquitaine | C13: 4.3705924
B14: Occitanie | C14: 3.2332861
B15: Pays de la Loire | C15: 3.5656172
... B17: DROM - COM | C17: 1.524341
